BEGIN:VCALENDAR
VERSION:2.0
PRODID:icalendar-ruby
CALSCALE:GREGORIAN
METHOD:PUBLISH
BEGIN:VEVENT
DTSTAMP:20260423T121948Z
UID:17-514575@lbcjackson.org
DTSTART:20260812T230000Z
DTEND:20260813T000000Z
CLASS:PUBLIC
CREATED:20260422T231241
DESCRIPTION:Radiate Student Ministry
LAST-MODIFIED:20260422T231241
LOCATION:Lighthouse Baptist Church
SUMMARY:Radiate Student Ministry
URL;VALUE=URI:https://lbcjackson.org/events/radiate-student-ministry/2026-0
 8-12
ATTACH;FILENAME=Radiate.jpg;FMTTYPE=image/jpeg:https://dq5pwpg1q8ru0.cloudf
 ront.net/2025/08/29/09/37/11/7285c5db-e03d-42a8-889f-d2446785ed88/Radiate.
 jpg
END:VEVENT
END:VCALENDAR
